BEGIN:VCALENDAR
VERSION:2.0
PRODID:-//Campus Dining - ECPv6.8.3//NONSGML v1.0//EN
CALSCALE:GREGORIAN
METHOD:PUBLISH
X-WR-CALNAME:Campus Dining
X-ORIGINAL-URL:https://campusdining.auburn.edu
X-WR-CALDESC:Events for Campus Dining
REFRESH-INTERVAL;VALUE=DURATION:PT1H
X-Robots-Tag:noindex
X-PUBLISHED-TTL:PT1H
BEGIN:VTIMEZONE
TZID:America/Chicago
BEGIN:DAYLIGHT
TZOFFSETFROM:-0600
TZOFFSETTO:-0500
TZNAME:CDT
DTSTART:20190310T080000
END:DAYLIGHT
BEGIN:STANDARD
TZOFFSETFROM:-0500
TZOFFSETTO:-0600
TZNAME:CST
DTSTART:20191103T070000
END:STANDARD
BEGIN:DAYLIGHT
TZOFFSETFROM:-0600
TZOFFSETTO:-0500
TZNAME:CDT
DTSTART:20200308T080000
END:DAYLIGHT
BEGIN:STANDARD
TZOFFSETFROM:-0500
TZOFFSETTO:-0600
TZNAME:CST
DTSTART:20201101T070000
END:STANDARD
END:VTIMEZONE
BEGIN:VEVENT
DTSTART;TZID=America/Chicago:20200229T090000
DTEND;TZID=America/Chicago:20200229T120000
DTSTAMP:20260425T184931
CREATED:20200225T173830Z
LAST-MODIFIED:20200225T173830Z
UID:1833-1582966800-1582977600@campusdining.auburn.edu
SUMMARY:2020 Garden Kickoff and Community Day
DESCRIPTION:This is our first Community Day of the year. Everyone is welcome to join us as we get our garden ready for spring planting! This event also serves as a new gardener orientation. Enjoy the outdoors with free coffee and bagels\, and some hands on time in the dirt! Come for all or only a part of the morning.
URL:https://campusdining.auburn.edu/event/2020-garden-kickoff-and-community-day/
LOCATION:Auburn University Community Garden\, Samford Ave.\, Auburn\, AL\, United States
CATEGORIES:Community Day,Garden Events
ORGANIZER;CN="Marley Halter":MAILTO:community.garden@auburn.edu
END:VEVENT
BEGIN:VEVENT
DTSTART;TZID=America/Chicago:20190803T080000
DTEND;TZID=America/Chicago:20190803T100000
DTSTAMP:20260425T184931
CREATED:20190726T181955Z
LAST-MODIFIED:20190726T182221Z
UID:586-1564819200-1564826400@campusdining.auburn.edu
SUMMARY:August Community Day
DESCRIPTION:Community Day is an opportunity to volunteer\, get your hands in the dirt\, learn something about gardening\, socialize with your fellow gardeners\, and\, most importantly\, have fun with us at the AUCG! \nEveryone is welcome\, so bring friends and family. There will be light breakfast and coffee available\, as well as ice water and all gardening tools. \nPlease bring a water bottle or cup\, hat\, sunglasses\, sunscreen\, and a pair of gloves (we’ll have extra gloves for those who need them). \nSchedule of events: \n\n8am – We will start off the morning with some bagels and coffee\, courtesy of the garden crew.\n8-10am – Our “project” this month is going to be replanting our wildflower beds.\n10-10:30am – We’ll be touring some of the garden plots\, getting to know what other gardeners in our community are growing and how. If you’re interested in giving us a tour of your plot (either on Saturday or at a future Community Day)\, please let me know.\n10:30am-12pm – Educational Talk: All About Melons! with Marley Halter. We’ll be discussing what types and varieties of melons grow well in Alabama\, tips for growing them well\, and how and when to harvest. Finally answer the question “how do I know when my melon is ripe?” with a watermelon and cantalope tasting.\n\nPlease email community.garden@auburn.edu with any questions.
URL:https://campusdining.auburn.edu/event/august-community-day/
LOCATION:Auburn University Community Garden\, Samford Ave.\, Auburn\, AL\, United States
CATEGORIES:Community Day
ORGANIZER;CN="Marley Halter":MAILTO:community.garden@auburn.edu
END:VEVENT
END:VCALENDAR