BEGIN:VCALENDAR
VERSION:2.0
PRODID:-//Campus Dining - ECPv6.8.3//NONSGML v1.0//EN
CALSCALE:GREGORIAN
METHOD:PUBLISH
X-WR-CALNAME:Campus Dining
X-ORIGINAL-URL:https://campusdining.auburn.edu
X-WR-CALDESC:Events for Campus Dining
REFRESH-INTERVAL;VALUE=DURATION:PT1H
X-Robots-Tag:noindex
X-PUBLISHED-TTL:PT1H
BEGIN:VTIMEZONE
TZID:America/Chicago
BEGIN:DAYLIGHT
TZOFFSETFROM:-0600
TZOFFSETTO:-0500
TZNAME:CDT
DTSTART:20190310T080000
END:DAYLIGHT
BEGIN:STANDARD
TZOFFSETFROM:-0500
TZOFFSETTO:-0600
TZNAME:CST
DTSTART:20191103T070000
END:STANDARD
BEGIN:DAYLIGHT
TZOFFSETFROM:-0600
TZOFFSETTO:-0500
TZNAME:CDT
DTSTART:20200308T080000
END:DAYLIGHT
BEGIN:STANDARD
TZOFFSETFROM:-0500
TZOFFSETTO:-0600
TZNAME:CST
DTSTART:20201101T070000
END:STANDARD
END:VTIMEZONE
BEGIN:VEVENT
DTSTART;TZID=America/Chicago:20200314T100000
DTEND;TZID=America/Chicago:20200314T120000
DTSTAMP:20260423T113636
CREATED:20200225T174321Z
LAST-MODIFIED:20200225T174321Z
UID:1837-1584180000-1584187200@campusdining.auburn.edu
SUMMARY:Open Garden Work Day
DESCRIPTION:Need to have your plot tilled? Just want an excuse to spend the morning puttering around the garden? Come on out for an open garden work day. The garden crew will be on hand to assist you and to provide any tools that you may need to get your spring planting started.
URL:https://campusdining.auburn.edu/event/open-garden-work-day/
LOCATION:Auburn University Community Garden\, Samford Ave.\, Auburn\, AL\, United States
CATEGORIES:Garden Events
ORGANIZER;CN="Marley Halter":MAILTO:community.garden@auburn.edu
END:VEVENT
BEGIN:VEVENT
DTSTART;TZID=America/Chicago:20200304T163000
DTEND;TZID=America/Chicago:20200304T173000
DTSTAMP:20260423T113636
CREATED:20200225T174045Z
LAST-MODIFIED:20200225T174112Z
UID:1835-1583339400-1583343000@campusdining.auburn.edu
SUMMARY:Let's Talk Soil Health
DESCRIPTION:Niamke Shropshire-Boykin is a senior Horticulture student at Auburn University and the president of the Organic Gardening Club. He will be giving a hands-on talk about the importance of feeding the soil\, and the benefits of supporting a diverse soil microbiome in your garden. Open to the public.
URL:https://campusdining.auburn.edu/event/lets-talk-soil-health/
LOCATION:Auburn University Community Garden\, Samford Ave.\, Auburn\, AL\, United States
CATEGORIES:Garden Events
ORGANIZER;CN="Marley Halter":MAILTO:community.garden@auburn.edu
END:VEVENT
BEGIN:VEVENT
DTSTART;TZID=America/Chicago:20200229T090000
DTEND;TZID=America/Chicago:20200229T120000
DTSTAMP:20260423T113636
CREATED:20200225T173830Z
LAST-MODIFIED:20200225T173830Z
UID:1833-1582966800-1582977600@campusdining.auburn.edu
SUMMARY:2020 Garden Kickoff and Community Day
DESCRIPTION:This is our first Community Day of the year. Everyone is welcome to join us as we get our garden ready for spring planting! This event also serves as a new gardener orientation. Enjoy the outdoors with free coffee and bagels\, and some hands on time in the dirt! Come for all or only a part of the morning.
URL:https://campusdining.auburn.edu/event/2020-garden-kickoff-and-community-day/
LOCATION:Auburn University Community Garden\, Samford Ave.\, Auburn\, AL\, United States
CATEGORIES:Community Day,Garden Events
ORGANIZER;CN="Marley Halter":MAILTO:community.garden@auburn.edu
END:VEVENT
BEGIN:VEVENT
DTSTART;VALUE=DATE:20200122
DTEND;VALUE=DATE:20200123
DTSTAMP:20260423T113636
CREATED:20191114T200053Z
LAST-MODIFIED:20191114T200104Z
UID:1471-1579651200-1579737599@campusdining.auburn.edu
SUMMARY:CHANGE  DEADLINE
DESCRIPTION:Deadline to submit accommodation request. \nDeadline to submit a meal plan change request. \n  \n 
URL:https://campusdining.auburn.edu/event/change-deadline/
LOCATION:AL
CATEGORIES:Dining Events
END:VEVENT
BEGIN:VEVENT
DTSTART;TZID=America/Chicago:20191120T103000
DTEND;TZID=America/Chicago:20191120T140000
DTSTAMP:20260423T113636
CREATED:20191114T220306Z
LAST-MODIFIED:20191114T220313Z
UID:1500-1574245800-1574258400@campusdining.auburn.edu
SUMMARY:What's a "portion"?  With DNA
DESCRIPTION:What are these portion sizes foodies talk about? \nIs a portion of vegetables the same as a portion of meat? \nDining Nutrition Ambassadors help you learn about correct portion sizes with things you use every day. \nDon’t deny yourself this Thanksgiving – just eat the right portions!
URL:https://campusdining.auburn.edu/event/whats-a-portion-with-dna/
LOCATION:The Commons at Foy
CATEGORIES:Dining Events
ORGANIZER;CN="Tiger Dining":MAILTO:dining@auburn.edu
END:VEVENT
BEGIN:VEVENT
DTSTART;TZID=America/Chicago:20191106T180000
DTEND;TZID=America/Chicago:20191106T210000
DTSTAMP:20260423T113636
CREATED:20191105T164126Z
LAST-MODIFIED:20191105T164126Z
UID:1408-1573063200-1573074000@campusdining.auburn.edu
SUMMARY:International Peace Dinner
DESCRIPTION:
URL:https://campusdining.auburn.edu/event/international-peace-dinner/
LOCATION:AU Student Activities Center\, 684 Biggio Drive\, Auburn\, AL\, 36849\, United States
CATEGORIES:Dining Events
END:VEVENT
BEGIN:VEVENT
DTSTART;TZID=America/Chicago:20191102T080000
DTEND;TZID=America/Chicago:20191102T170000
DTSTAMP:20260423T113636
CREATED:20191008T214946Z
LAST-MODIFIED:20191008T214946Z
UID:1158-1572681600-1572714000@campusdining.auburn.edu
SUMMARY:Football:  Ole Miss @ Auburn
DESCRIPTION:
URL:https://campusdining.auburn.edu/event/football-ole-miss-auburn/
LOCATION:AL
END:VEVENT
BEGIN:VEVENT
DTSTART;VALUE=DATE:20191028
DTEND;VALUE=DATE:20191029
DTSTAMP:20260423T113636
CREATED:20191008T214213Z
LAST-MODIFIED:20191008T214213Z
UID:1143-1572220800-1572307199@campusdining.auburn.edu
SUMMARY:Viva Veggies!
DESCRIPTION:Each Monday during October\, during lunch and dinner meals\, we’ll be featuring one meatless entree at our dining halls.  Come embrace your inner vegetarian!
URL:https://campusdining.auburn.edu/event/viva-veggies-2/
LOCATION:AL
END:VEVENT
BEGIN:VEVENT
DTSTART;VALUE=DATE:20191026
DTEND;VALUE=DATE:20191027
DTSTAMP:20260423T113636
CREATED:20191008T214839Z
LAST-MODIFIED:20191008T214850Z
UID:1156-1572048000-1572134399@campusdining.auburn.edu
SUMMARY:Football:  Auburn @ LSU
DESCRIPTION:
URL:https://campusdining.auburn.edu/event/football-auburn-lsu/
LOCATION:AL
END:VEVENT
BEGIN:VEVENT
DTSTART;VALUE=DATE:20191021
DTEND;VALUE=DATE:20191102
DTSTAMP:20260423T113636
CREATED:20191008T214809Z
LAST-MODIFIED:20191008T214917Z
UID:1154-1571616000-1572652799@campusdining.auburn.edu
SUMMARY:Chicken & Roasted Pear Wrap @ Tiger Bread Co & Engineer's Cafe
DESCRIPTION:
URL:https://campusdining.auburn.edu/event/chicken-roasted-pear-wrap-tiger-bread-co-engineers-cafe/
LOCATION:AL
END:VEVENT
BEGIN:VEVENT
DTSTART;VALUE=DATE:20191021
DTEND;VALUE=DATE:20191022
DTSTAMP:20260423T113636
CREATED:20191008T214139Z
LAST-MODIFIED:20191008T214139Z
UID:1141-1571616000-1571702399@campusdining.auburn.edu
SUMMARY:Viva Veggies!
DESCRIPTION:Each Monday during October\, during lunch and dinner meals\, we’ll be featuring one meatless entree at our dining halls.  Come embrace your inner vegetarian!
URL:https://campusdining.auburn.edu/event/viva-veggies/
LOCATION:AL
END:VEVENT
BEGIN:VEVENT
DTSTART;VALUE=DATE:20191019
DTEND;VALUE=DATE:20191020
DTSTAMP:20260423T113636
CREATED:20191008T214627Z
LAST-MODIFIED:20191008T214627Z
UID:1151-1571443200-1571529599@campusdining.auburn.edu
SUMMARY:Football Auburn @ Arkansas
DESCRIPTION:
URL:https://campusdining.auburn.edu/event/football-auburn-arkansas/
LOCATION:AL
END:VEVENT
BEGIN:VEVENT
DTSTART;VALUE=DATE:20191015
DTEND;VALUE=DATE:20191016
DTSTAMP:20260423T113636
CREATED:20191008T214322Z
LAST-MODIFIED:20191008T214322Z
UID:1145-1571097600-1571183999@campusdining.auburn.edu
SUMMARY:National Mushroom Day
DESCRIPTION:
URL:https://campusdining.auburn.edu/event/national-mushroom-day/
LOCATION:AL
END:VEVENT
BEGIN:VEVENT
DTSTART;VALUE=DATE:20191014
DTEND;VALUE=DATE:20191019
DTSTAMP:20260423T113636
CREATED:20191008T214429Z
LAST-MODIFIED:20191008T214429Z
UID:1147-1571011200-1571443199@campusdining.auburn.edu
SUMMARY:Global Rice Bowls @ Village & Foy dining halls
DESCRIPTION:
URL:https://campusdining.auburn.edu/event/global-rice-bowls-village-foy-dining-halls/
LOCATION:AL
END:VEVENT
BEGIN:VEVENT
DTSTART;VALUE=DATE:20191014
DTEND;VALUE=DATE:20191015
DTSTAMP:20260423T113636
CREATED:20191008T202438Z
LAST-MODIFIED:20191008T214048Z
UID:1137-1571011200-1571097599@campusdining.auburn.edu
SUMMARY:Viva Veggies!
DESCRIPTION:Each Monday during October\, during lunch and dinner meals\, we’ll be featuring one meatless entree at our dining halls.  Come embrace your inner vegetarian!
URL:https://campusdining.auburn.edu/event/check-out-the-meatless-monday-menu-item-at-foy-and-village-dining-halls/
LOCATION:AL
END:VEVENT
BEGIN:VEVENT
DTSTART;VALUE=DATE:20191013
DTEND;VALUE=DATE:20191019
DTSTAMP:20260423T113636
CREATED:20191008T214535Z
LAST-MODIFIED:20191008T214713Z
UID:1149-1570924800-1571443199@campusdining.auburn.edu
SUMMARY:Hummus & Chicken Ciabatta @ Tiger Bread Co & Engineer's Cafe
DESCRIPTION:
URL:https://campusdining.auburn.edu/event/hummus-chicken-ciabatta-tiger-bread-co-engineers-cafe/
LOCATION:AL
END:VEVENT
BEGIN:VEVENT
DTSTART;TZID=America/Chicago:20191010T000000
DTEND;TZID=America/Chicago:20191011T235900
DTSTAMP:20260423T113636
CREATED:20191008T201834Z
LAST-MODIFIED:20191008T202317Z
UID:1134-1570665600-1570838340@campusdining.auburn.edu
SUMMARY:Fall Break - check "Open Now" to see what's open
DESCRIPTION:
URL:https://campusdining.auburn.edu/event/fall-break-check-open-now-to-see-whats-open/
LOCATION:AL
END:VEVENT
BEGIN:VEVENT
DTSTART;TZID=America/Chicago:20190806T110000
DTEND;TZID=America/Chicago:20190806T130000
DTSTAMP:20260423T113636
CREATED:20190806T122800Z
LAST-MODIFIED:20190806T122800Z
UID:731-1565089200-1565096400@campusdining.auburn.edu
SUMMARY:Home on the Plains
DESCRIPTION:Join us for free food\, fun and music on the green space near the Student Center
URL:https://campusdining.auburn.edu/event/home-on-the-plains/
LOCATION:AL
ORGANIZER;CN="Tiger Dining":MAILTO:dining@auburn.edu
END:VEVENT
BEGIN:VEVENT
DTSTART;TZID=America/Chicago:20190803T080000
DTEND;TZID=America/Chicago:20190803T100000
DTSTAMP:20260423T113636
CREATED:20190726T181955Z
LAST-MODIFIED:20190726T182221Z
UID:586-1564819200-1564826400@campusdining.auburn.edu
SUMMARY:August Community Day
DESCRIPTION:Community Day is an opportunity to volunteer\, get your hands in the dirt\, learn something about gardening\, socialize with your fellow gardeners\, and\, most importantly\, have fun with us at the AUCG! \nEveryone is welcome\, so bring friends and family. There will be light breakfast and coffee available\, as well as ice water and all gardening tools. \nPlease bring a water bottle or cup\, hat\, sunglasses\, sunscreen\, and a pair of gloves (we’ll have extra gloves for those who need them). \nSchedule of events: \n\n8am – We will start off the morning with some bagels and coffee\, courtesy of the garden crew.\n8-10am – Our “project” this month is going to be replanting our wildflower beds.\n10-10:30am – We’ll be touring some of the garden plots\, getting to know what other gardeners in our community are growing and how. If you’re interested in giving us a tour of your plot (either on Saturday or at a future Community Day)\, please let me know.\n10:30am-12pm – Educational Talk: All About Melons! with Marley Halter. We’ll be discussing what types and varieties of melons grow well in Alabama\, tips for growing them well\, and how and when to harvest. Finally answer the question “how do I know when my melon is ripe?” with a watermelon and cantalope tasting.\n\nPlease email community.garden@auburn.edu with any questions.
URL:https://campusdining.auburn.edu/event/august-community-day/
LOCATION:Auburn University Community Garden\, Samford Ave.\, Auburn\, AL\, United States
CATEGORIES:Community Day
ORGANIZER;CN="Marley Halter":MAILTO:community.garden@auburn.edu
END:VEVENT
END:VCALENDAR